BEGIN:VCALENDAR
PRODID:-//eluceo/ical//2.0/EN
VERSION:2.0
CALSCALE:GREGORIAN
BEGIN:VEVENT
UID:2cd57734341ccf98440bb21117d99c56
DTSTAMP:20260424T115547Z
SUMMARY:🚀 Launch of Strasens' Strategic Boost offering
URL:https://strasens.fr/boost-strategique/
DTSTART;VALUE=DATE:20250605
END:VEVENT
END:VCALENDAR
